BEGIN:VCALENDAR
VERSION:2.0
PRODID:www.stappen-shoppen.nl
BEGIN:VEVENT
UID:stappen-shoppen.nl/entity/69e87178af6b80a8da097272
DTSTAMP:20260422T113746Z
ORGANIZER;CN=:MAILTO:
DTSTART:20260508T100000Z
DTEND:20260509T100000Z
URL:https://www.etten-leurcityapp.nl/ical/69e87178af6b80a8da097272
SUMMARY:Kaasgenoten viert 5-jarig jubileum met feestelijk rad van avontuur
DESCRIPTION:Kaasgenoten bestaat vijf jaar en dat wordt groots gevierd. Wat ooit begon als een winkel met een passie voor kaas\, is uitgegroeid tot een geliefde plek waar kwaliteit en gezelligheid samenkomen. En zoals het gezegde gaat: de tijd vliegt. Ter gelegenheid van dit jubileum organiseert Kaasgenoten een feestelijk evenement op vrijdag 8 mei en zaterdag 9 mei. Tijdens deze dagen krijgt elke betalende klant de kans om aan het rad van avontuur te draaien\, waarbij iedereen gegarandeerd met een prijs naar huis gaat. Bezoekers worden uitgenodigd om deze feestelijke dagen alvast in de agenda te zetten en samen met Kaasgenoten het 5-jarig bestaan te vieren. 🥳🍷
END:VEVENT
END:VCALENDAR

