BEGIN:VCALENDAR
VERSION:2.0
PRODID:www.stappen-shoppen.nl
BEGIN:VEVENT
UID:stappen-shoppen.nl/entity/69e617c6f2a0416aab03226c
DTSTAMP:20260420T163756Z
ORGANIZER;CN=:MAILTO:
DTSTART:20260426T140000Z
DTEND:20260426T230000Z
URL:https://www.etten-leurcityapp.nl/ical/69e617c6f2a0416aab03226c
SUMMARY:Koningsnacht bij Scandal Bar
DESCRIPTION:DJ Timswa draait de lekkerste meezingers
END:VEVENT
END:VCALENDAR

