BEGIN:VCALENDAR
VERSION:2.0
PRODID:www.stappen-shoppen.nl
BEGIN:VEVENT
UID:stappen-shoppen.nl/entity/69e61622c4640f736f0bacaa
DTSTAMP:20260420T163812Z
ORGANIZER;CN=:MAILTO:
DTSTART:20260426T130000Z
DTEND:20260426T230000Z
URL:https://www.etten-leurcityapp.nl/ical/69e61622c4640f736f0bacaa
SUMMARY:Koningsnacht bij d'Ouwe Brug
DESCRIPTION:Op zondag 26 april is café d'Ouwe Brug vanaf 15.00 uur geopend voor Koningsnacht.
END:VEVENT
END:VCALENDAR

