BEGIN:VCALENDAR
VERSION:2.0
PRODID:www.stappen-shoppen.nl
BEGIN:VEVENT
UID:stappen-shoppen.nl/entity/69aacf90861bf26ec5049de7
DTSTAMP:20260422T131526Z
ORGANIZER;CN=:MAILTO:
DTSTART:20260318T183000Z
DTEND:20260318T210000Z
URL:https://www.etten-leurcityapp.nl/ical/69aacf90861bf26ec5049de7
SUMMARY:PubQuiz bij The Butler
DESCRIPTION:Elke 2e én 3e woensdag van de maand is het raak bij The Butler.
END:VEVENT
BEGIN:VEVENT
UID:stappen-shoppen.nl/entity/69aacf90861bf26ec5049de7
DTSTAMP:20260422T131526Z
ORGANIZER;CN=:MAILTO:
DTSTART:20260408T173000Z
DTEND:20260408T200000Z
URL:https://www.etten-leurcityapp.nl/ical/69aacf90861bf26ec5049de7
SUMMARY:PubQuiz bij The Butler
DESCRIPTION:Elke 2e én 3e woensdag van de maand is het raak bij The Butler.
END:VEVENT
BEGIN:VEVENT
UID:stappen-shoppen.nl/entity/69aacf90861bf26ec5049de7
DTSTAMP:20260422T131526Z
ORGANIZER;CN=:MAILTO:
DTSTART:20260513T173000Z
DTEND:20260513T200000Z
URL:https://www.etten-leurcityapp.nl/ical/69aacf90861bf26ec5049de7
SUMMARY:PubQuiz bij The Butler
DESCRIPTION:Elke 2e én 3e woensdag van de maand is het raak bij The Butler.
END:VEVENT
END:VCALENDAR

