BEGIN:VCALENDAR
VERSION:2.0
PRODID:www.stappen-shoppen.nl
BEGIN:VEVENT
UID:stappen-shoppen.nl/entity/696607101ec5da85480127f2
DTSTAMP:20260419T161252Z
ORGANIZER;CN=:MAILTO:
DTSTART:20260212T140000Z
DTEND:20260212T230000Z
URL:https://www.etten-leurcityapp.nl/ical/696607101ec5da85480127f2
SUMMARY:Carnaval bij Marktzicht
DESCRIPTION:Zes dagen Carnaval bij Marktzicht Etten-Leur.
END:VEVENT
BEGIN:VEVENT
UID:stappen-shoppen.nl/entity/696607101ec5da85480127f2
DTSTAMP:20260419T161252Z
ORGANIZER;CN=:MAILTO:
DTSTART:20260213T120000Z
DTEND:20260213T230000Z
URL:https://www.etten-leurcityapp.nl/ical/696607101ec5da85480127f2
SUMMARY:Carnaval bij Marktzicht
DESCRIPTION:Zes dagen Carnaval bij Marktzicht Etten-Leur.
END:VEVENT
BEGIN:VEVENT
UID:stappen-shoppen.nl/entity/696607101ec5da85480127f2
DTSTAMP:20260419T161252Z
ORGANIZER;CN=:MAILTO:
DTSTART:20260214T120000Z
DTEND:20260214T230000Z
URL:https://www.etten-leurcityapp.nl/ical/696607101ec5da85480127f2
SUMMARY:Carnaval bij Marktzicht
DESCRIPTION:Zes dagen Carnaval bij Marktzicht Etten-Leur.
END:VEVENT
BEGIN:VEVENT
UID:stappen-shoppen.nl/entity/696607101ec5da85480127f2
DTSTAMP:20260419T161252Z
ORGANIZER;CN=:MAILTO:
DTSTART:20260215T123000Z
DTEND:20260215T230000Z
URL:https://www.etten-leurcityapp.nl/ical/696607101ec5da85480127f2
SUMMARY:Carnaval bij Marktzicht
DESCRIPTION:Zes dagen Carnaval bij Marktzicht Etten-Leur.
END:VEVENT
BEGIN:VEVENT
UID:stappen-shoppen.nl/entity/696607101ec5da85480127f2
DTSTAMP:20260419T161252Z
ORGANIZER;CN=:MAILTO:
DTSTART:20260216T130000Z
DTEND:20260216T230000Z
URL:https://www.etten-leurcityapp.nl/ical/696607101ec5da85480127f2
SUMMARY:Carnaval bij Marktzicht
DESCRIPTION:Zes dagen Carnaval bij Marktzicht Etten-Leur.
END:VEVENT
BEGIN:VEVENT
UID:stappen-shoppen.nl/entity/696607101ec5da85480127f2
DTSTAMP:20260419T161252Z
ORGANIZER;CN=:MAILTO:
DTSTART:20260217T085000Z
DTEND:20260217T190000Z
URL:https://www.etten-leurcityapp.nl/ical/696607101ec5da85480127f2
SUMMARY:Carnaval bij Marktzicht
DESCRIPTION:Zes dagen Carnaval bij Marktzicht Etten-Leur.
END:VEVENT
END:VCALENDAR

