BEGIN:VCALENDAR
VERSION:2.0
PRODID:www.stappen-shoppen.nl
BEGIN:VEVENT
UID:stappen-shoppen.nl/entity/681d6402c93fc5aac4c0bf10
DTSTAMP:20260420T045222Z
ORGANIZER;CN=:MAILTO:info@denobelaer.nl 
DTSTART:20260424T181500Z
DTEND:20260424T205900Z
URL:https://www.etten-leurcityapp.nl/ical/681d6402c93fc5aac4c0bf10
SUMMARY:Poppodium presenteert: 100% hits uit Nederland
DESCRIPTION:Zing\, swing en geniet mee van een avond vol herkenning en dompel je onder in het beste dat de Nederlandse muziek te bieden heeft.Update 6 maart 2026: het concert wordt helaas geannuleerd. Tickethouders zijn per mail geïnformeerd. …
END:VEVENT
END:VCALENDAR

