BEGIN:VCALENDAR
VERSION:2.0
PRODID:www.stappen-shoppen.nl
BEGIN:VEVENT
UID:stappen-shoppen.nl/entity/6790efe75c70bee8270c4a03
DTSTAMP:20260422T114102Z
ORGANIZER;CN=:MAILTO:
DTSTART:20260529T200000Z
DTEND:20260529T150000Z
URL:https://www.etten-leurcityapp.nl/ical/6790efe75c70bee8270c4a03
SUMMARY:Kennedymars en Baroniemars
DESCRIPTION:10\, 20\, 30\, 40 of 80 km wandelen... km wandelen
END:VEVENT
BEGIN:VEVENT
UID:stappen-shoppen.nl/entity/6790efe75c70bee8270c4a03
DTSTAMP:20260422T114102Z
ORGANIZER;CN=:MAILTO:
DTSTART:20260530T050000Z
DTEND:20260530T150000Z
URL:https://www.etten-leurcityapp.nl/ical/6790efe75c70bee8270c4a03
SUMMARY:Kennedymars en Baroniemars
DESCRIPTION:10\, 20\, 30\, 40 of 80 km wandelen... km wandelen
END:VEVENT
END:VCALENDAR

