BEGIN:VCALENDAR
VERSION:2.0
PRODID:www.stappen-shoppen.nl
BEGIN:VEVENT
UID:stappen-shoppen.nl/entity/6617f0670054e21b8b0507dd
DTSTAMP:20260422T114203Z
ORGANIZER;CN=:MAILTO:
DTSTART:20260601T153000Z
DTEND:20260601T180000Z
URL:https://www.etten-leurcityapp.nl/ical/6617f0670054e21b8b0507dd
SUMMARY:Avond Wandelvierdaagse Etten-Leur
DESCRIPTION:Van 1 t/m 4 juni vindt weer de Avond Wandelvierdaagse Etten-Leur plaats. De 62ste editie!
END:VEVENT
BEGIN:VEVENT
UID:stappen-shoppen.nl/entity/6617f0670054e21b8b0507dd
DTSTAMP:20260422T114203Z
ORGANIZER;CN=:MAILTO:
DTSTART:20260602T153000Z
DTEND:20260602T180000Z
URL:https://www.etten-leurcityapp.nl/ical/6617f0670054e21b8b0507dd
SUMMARY:Avond Wandelvierdaagse Etten-Leur
DESCRIPTION:Van 1 t/m 4 juni vindt weer de Avond Wandelvierdaagse Etten-Leur plaats. De 62ste editie!
END:VEVENT
BEGIN:VEVENT
UID:stappen-shoppen.nl/entity/6617f0670054e21b8b0507dd
DTSTAMP:20260422T114203Z
ORGANIZER;CN=:MAILTO:
DTSTART:20260603T153000Z
DTEND:20260603T180000Z
URL:https://www.etten-leurcityapp.nl/ical/6617f0670054e21b8b0507dd
SUMMARY:Avond Wandelvierdaagse Etten-Leur
DESCRIPTION:Van 1 t/m 4 juni vindt weer de Avond Wandelvierdaagse Etten-Leur plaats. De 62ste editie!
END:VEVENT
BEGIN:VEVENT
UID:stappen-shoppen.nl/entity/6617f0670054e21b8b0507dd
DTSTAMP:20260422T114203Z
ORGANIZER;CN=:MAILTO:
DTSTART:20260604T151500Z
DTEND:20260604T180000Z
URL:https://www.etten-leurcityapp.nl/ical/6617f0670054e21b8b0507dd
SUMMARY:Avond Wandelvierdaagse Etten-Leur
DESCRIPTION:Van 1 t/m 4 juni vindt weer de Avond Wandelvierdaagse Etten-Leur plaats. De 62ste editie!
END:VEVENT
END:VCALENDAR

