BEGIN:VCALENDAR
VERSION:2.0
PRODID:www.stappen-shoppen.nl
BEGIN:VEVENT
UID:stappen-shoppen.nl/entity/6617e5d2fb7f8b067b0ca94d
DTSTAMP:20260422T113827Z
ORGANIZER;CN=:MAILTO:
DTSTART:20260620T100000Z
DTEND:20260620T140000Z
URL:https://www.etten-leurcityapp.nl/ical/6617e5d2fb7f8b067b0ca94d
SUMMARY:Sport Event - Sportdag Etten-Leur
DESCRIPTION:Sport Event - Sportdag Etten-Leur is een evenement op het Marktplein in Etten-Leur. Het vindt plaats op 14 juni.
END:VEVENT
END:VCALENDAR

