BEGIN:VCALENDAR
VERSION:2.0
PRODID:www.stappen-shoppen.nl
BEGIN:VEVENT
UID:stappen-shoppen.nl/entity/62a362b144d173ac3304b548
DTSTAMP:20260420T152212Z
ORGANIZER;CN=:MAILTO:
DTSTART:20260626T130000Z
DTEND:20260625T220000Z
URL:https://www.etten-leurcityapp.nl/ical/62a362b144d173ac3304b548
SUMMARY:Zomerkermis Etten-Leur
DESCRIPTION:Van 26 juni t/m 1 juli vindt weer de grote Zomerkermis van Etten-Leur plaats. Zes dagen zwieren en zwaaien en jezelf vermaken in hartje Centrum.
END:VEVENT
BEGIN:VEVENT
UID:stappen-shoppen.nl/entity/62a362b144d173ac3304b548
DTSTAMP:20260420T152212Z
ORGANIZER;CN=:MAILTO:
DTSTART:20260627T110000Z
DTEND:20260626T220000Z
URL:https://www.etten-leurcityapp.nl/ical/62a362b144d173ac3304b548
SUMMARY:Zomerkermis Etten-Leur
DESCRIPTION:Van 26 juni t/m 1 juli vindt weer de grote Zomerkermis van Etten-Leur plaats. Zes dagen zwieren en zwaaien en jezelf vermaken in hartje Centrum.
END:VEVENT
BEGIN:VEVENT
UID:stappen-shoppen.nl/entity/62a362b144d173ac3304b548
DTSTAMP:20260420T152212Z
ORGANIZER;CN=:MAILTO:
DTSTART:20260628T110000Z
DTEND:20260627T220000Z
URL:https://www.etten-leurcityapp.nl/ical/62a362b144d173ac3304b548
SUMMARY:Zomerkermis Etten-Leur
DESCRIPTION:Van 26 juni t/m 1 juli vindt weer de grote Zomerkermis van Etten-Leur plaats. Zes dagen zwieren en zwaaien en jezelf vermaken in hartje Centrum.
END:VEVENT
BEGIN:VEVENT
UID:stappen-shoppen.nl/entity/62a362b144d173ac3304b548
DTSTAMP:20260420T152212Z
ORGANIZER;CN=:MAILTO:
DTSTART:20260629T110000Z
DTEND:20260628T220000Z
URL:https://www.etten-leurcityapp.nl/ical/62a362b144d173ac3304b548
SUMMARY:Zomerkermis Etten-Leur
DESCRIPTION:Van 26 juni t/m 1 juli vindt weer de grote Zomerkermis van Etten-Leur plaats. Zes dagen zwieren en zwaaien en jezelf vermaken in hartje Centrum.
END:VEVENT
BEGIN:VEVENT
UID:stappen-shoppen.nl/entity/62a362b144d173ac3304b548
DTSTAMP:20260420T152212Z
ORGANIZER;CN=:MAILTO:
DTSTART:20260630T120000Z
DTEND:20260629T220000Z
URL:https://www.etten-leurcityapp.nl/ical/62a362b144d173ac3304b548
SUMMARY:Zomerkermis Etten-Leur
DESCRIPTION:Van 26 juni t/m 1 juli vindt weer de grote Zomerkermis van Etten-Leur plaats. Zes dagen zwieren en zwaaien en jezelf vermaken in hartje Centrum.
END:VEVENT
BEGIN:VEVENT
UID:stappen-shoppen.nl/entity/62a362b144d173ac3304b548
DTSTAMP:20260420T152212Z
ORGANIZER;CN=:MAILTO:
DTSTART:20260701T110000Z
DTEND:20260630T220000Z
URL:https://www.etten-leurcityapp.nl/ical/62a362b144d173ac3304b548
SUMMARY:Zomerkermis Etten-Leur
DESCRIPTION:Van 26 juni t/m 1 juli vindt weer de grote Zomerkermis van Etten-Leur plaats. Zes dagen zwieren en zwaaien en jezelf vermaken in hartje Centrum.
END:VEVENT
END:VCALENDAR

